BEGIN:VCALENDAR
VERSION:2.0
PRODID:-//Towarzystwo Przyjaciół Siemianowic Śląskich - ECPv6.15.15//NONSGML v1.0//EN
CALSCALE:GREGORIAN
METHOD:PUBLISH
X-WR-CALNAME:Towarzystwo Przyjaciół Siemianowic Śląskich
X-ORIGINAL-URL:https://www.tpss.siemianowice.org.pl
X-WR-CALDESC:Wydarzenia dla Towarzystwo Przyjaciół Siemianowic Śląskich
REFRESH-INTERVAL;VALUE=DURATION:PT1H
X-Robots-Tag:noindex
X-PUBLISHED-TTL:PT1H
BEGIN:VTIMEZONE
TZID:Europe/Warsaw
BEGIN:DAYLIGHT
TZOFFSETFROM:+0100
TZOFFSETTO:+0200
TZNAME:CEST
DTSTART:20250330T010000
END:DAYLIGHT
BEGIN:STANDARD
TZOFFSETFROM:+0200
TZOFFSETTO:+0100
TZNAME:CET
DTSTART:20251026T010000
END:STANDARD
BEGIN:DAYLIGHT
TZOFFSETFROM:+0100
TZOFFSETTO:+0200
TZNAME:CEST
DTSTART:20260329T010000
END:DAYLIGHT
BEGIN:STANDARD
TZOFFSETFROM:+0200
TZOFFSETTO:+0100
TZNAME:CET
DTSTART:20261025T010000
END:STANDARD
BEGIN:DAYLIGHT
TZOFFSETFROM:+0100
TZOFFSETTO:+0200
TZNAME:CEST
DTSTART:20270328T010000
END:DAYLIGHT
BEGIN:STANDARD
TZOFFSETFROM:+0200
TZOFFSETTO:+0100
TZNAME:CET
DTSTART:20271031T010000
END:STANDARD
END:VTIMEZONE
BEGIN:VEVENT
DTSTART;TZID=Europe/Warsaw:20260616T173000
DTEND;TZID=Europe/Warsaw:20260616T190000
DTSTAMP:20260420T185647
CREATED:20250916T174959Z
LAST-MODIFIED:20250916T175853Z
UID:290-1781631000-1781636400@www.tpss.siemianowice.org.pl
SUMMARY:Walne Zebranie Sprawozdawcze
DESCRIPTION:
URL:https://www.tpss.siemianowice.org.pl/events/walne-zebranie-sprawozdawcze/
LOCATION:„Katolik” – Publiczna Szkoła Podstawowa SRKAK\, ul. 1-go Maja 1\, Siemianowice Śląskie\, 41-100
ATTACH;FMTTYPE=image/jpeg:https://www.tpss.siemianowice.org.pl/wp-content/uploads/2025/09/Sprawozdanie.jpg
END:VEVENT
BEGIN:VEVENT
DTSTART;TZID=Europe/Warsaw:20261023T180000
DTEND;TZID=Europe/Warsaw:20261023T200000
DTSTAMP:20260420T185647
CREATED:20260211T145430Z
LAST-MODIFIED:20260211T154540Z
UID:299-1792778400-1792785600@www.tpss.siemianowice.org.pl
SUMMARY:Obchody 60-cio lecia Towarzystwa
DESCRIPTION:
URL:https://www.tpss.siemianowice.org.pl/events/obchody-60-cio-lecia/
LOCATION:SCK – Zameczek\, ul. Oświęcimska 1\, Siemianowice Śląskie\, 41-100
ATTACH;FMTTYPE=image/png:https://www.tpss.siemianowice.org.pl/wp-content/uploads/2026/02/ChatGPT-Image-11-lut-2026-16_15_02.png
END:VEVENT
END:VCALENDAR