BEGIN:VCALENDAR
VERSION:2.0
PRODID:-//Towarzystwo Przyjaciół Siemianowic Śląskich - ECPv6.15.15//NONSGML v1.0//EN
CALSCALE:GREGORIAN
METHOD:PUBLISH
X-WR-CALNAME:Towarzystwo Przyjaciół Siemianowic Śląskich
X-ORIGINAL-URL:https://www.tpss.siemianowice.org.pl
X-WR-CALDESC:Wydarzenia dla Towarzystwo Przyjaciół Siemianowic Śląskich
REFRESH-INTERVAL;VALUE=DURATION:PT1H
X-Robots-Tag:noindex
X-PUBLISHED-TTL:PT1H
BEGIN:VTIMEZONE
TZID:Europe/Warsaw
BEGIN:DAYLIGHT
TZOFFSETFROM:+0100
TZOFFSETTO:+0200
TZNAME:CEST
DTSTART:20240331T010000
END:DAYLIGHT
BEGIN:STANDARD
TZOFFSETFROM:+0200
TZOFFSETTO:+0100
TZNAME:CET
DTSTART:20241027T010000
END:STANDARD
BEGIN:DAYLIGHT
TZOFFSETFROM:+0100
TZOFFSETTO:+0200
TZNAME:CEST
DTSTART:20250330T010000
END:DAYLIGHT
BEGIN:STANDARD
TZOFFSETFROM:+0200
TZOFFSETTO:+0100
TZNAME:CET
DTSTART:20251026T010000
END:STANDARD
BEGIN:DAYLIGHT
TZOFFSETFROM:+0100
TZOFFSETTO:+0200
TZNAME:CEST
DTSTART:20260329T010000
END:DAYLIGHT
BEGIN:STANDARD
TZOFFSETFROM:+0200
TZOFFSETTO:+0100
TZNAME:CET
DTSTART:20261025T010000
END:STANDARD
BEGIN:DAYLIGHT
TZOFFSETFROM:+0100
TZOFFSETTO:+0200
TZNAME:CEST
DTSTART:20270328T010000
END:DAYLIGHT
BEGIN:STANDARD
TZOFFSETFROM:+0200
TZOFFSETTO:+0100
TZNAME:CET
DTSTART:20271031T010000
END:STANDARD
END:VTIMEZONE
BEGIN:VEVENT
DTSTART;TZID=Europe/Warsaw:20260414T170000
DTEND;TZID=Europe/Warsaw:20260414T190000
DTSTAMP:20260420T152346
CREATED:20260318T121551Z
LAST-MODIFIED:20260318T121551Z
UID:310-1776186000-1776193200@www.tpss.siemianowice.org.pl
SUMMARY:Spotkanie Członków i Sympatyków
DESCRIPTION:
URL:https://www.tpss.siemianowice.org.pl/events/spotkanie-czlonkow-i-sympatykow-4/
LOCATION:„Katolik” – Publiczna Szkoła Podstawowa SRKAK\, ul. 1-go Maja 1\, Siemianowice Śląskie\, 41-100
ATTACH;FMTTYPE=image/webp:https://www.tpss.siemianowice.org.pl/wp-content/uploads/2025/04/Zebranie.webp
END:VEVENT
BEGIN:VEVENT
DTSTART;TZID=Europe/Warsaw:20260317T170000
DTEND;TZID=Europe/Warsaw:20260317T190000
DTSTAMP:20260420T152346
CREATED:20250702T132006Z
LAST-MODIFIED:20250702T132006Z
UID:279-1773766800-1773774000@www.tpss.siemianowice.org.pl
SUMMARY:Spotkanie Członków i Sympatyków
DESCRIPTION:
URL:https://www.tpss.siemianowice.org.pl/events/spotkanie-czlonkow-i-sympatykow-5/
LOCATION:„Katolik” – Publiczna Szkoła Podstawowa SRKAK\, ul. 1-go Maja 1\, Siemianowice Śląskie\, 41-100
ATTACH;FMTTYPE=image/webp:https://www.tpss.siemianowice.org.pl/wp-content/uploads/2025/04/Zebranie.webp
END:VEVENT
BEGIN:VEVENT
DTSTART;TZID=Europe/Warsaw:20260113T170000
DTEND;TZID=Europe/Warsaw:20260113T190000
DTSTAMP:20260420T152346
CREATED:20250916T174639Z
LAST-MODIFIED:20251217T150115Z
UID:288-1768323600-1768330800@www.tpss.siemianowice.org.pl
SUMMARY:Spotkanie Noworoczne
DESCRIPTION:
URL:https://www.tpss.siemianowice.org.pl/events/spotkanie-noworoczne-2/
LOCATION:SCK – Willa Fitznera\, ul. Fitznerów 3\, Siemianowice Śląskie\, 41-100
ATTACH;FMTTYPE=image/png:https://www.tpss.siemianowice.org.pl/wp-content/uploads/2025/04/Koledowanie.png
END:VEVENT
BEGIN:VEVENT
DTSTART;TZID=Europe/Warsaw:20251118T170000
DTEND;TZID=Europe/Warsaw:20251118T190000
DTSTAMP:20260420T152346
CREATED:20250702T131922Z
LAST-MODIFIED:20250702T131922Z
UID:275-1763485200-1763492400@www.tpss.siemianowice.org.pl
SUMMARY:Spotkanie Członków i Sympatyków
DESCRIPTION:
URL:https://www.tpss.siemianowice.org.pl/events/spotkanie-czlonkow-i-sympatykow-3/
LOCATION:„Katolik” – Publiczna Szkoła Podstawowa SRKAK\, ul. 1-go Maja 1\, Siemianowice Śląskie\, 41-100
ATTACH;FMTTYPE=image/webp:https://www.tpss.siemianowice.org.pl/wp-content/uploads/2025/04/Zebranie.webp
END:VEVENT
BEGIN:VEVENT
DTSTART;TZID=Europe/Warsaw:20250916T170000
DTEND;TZID=Europe/Warsaw:20250916T190000
DTSTAMP:20260420T152346
CREATED:20250702T131848Z
LAST-MODIFIED:20250702T131848Z
UID:273-1758042000-1758049200@www.tpss.siemianowice.org.pl
SUMMARY:Spotkanie Członków i Sympatyków
DESCRIPTION:
URL:https://www.tpss.siemianowice.org.pl/events/spotkanie-czlonkow-i-sympatykow-2/
LOCATION:„Katolik” – Publiczna Szkoła Podstawowa SRKAK\, ul. 1-go Maja 1\, Siemianowice Śląskie\, 41-100
ATTACH;FMTTYPE=image/webp:https://www.tpss.siemianowice.org.pl/wp-content/uploads/2025/04/Zebranie.webp
END:VEVENT
BEGIN:VEVENT
DTSTART;TZID=Europe/Warsaw:20250618T173000
DTEND;TZID=Europe/Warsaw:20250618T190000
DTSTAMP:20260420T152346
CREATED:20250417T141033Z
LAST-MODIFIED:20250613T140447Z
UID:210-1750267800-1750273200@www.tpss.siemianowice.org.pl
SUMMARY:Walne Zebranie Sprawozdawczo-Wyborcze
DESCRIPTION:Do pobrania po wejściu w wydarzenie – Porządek obrad WZS-W '2025
URL:https://www.tpss.siemianowice.org.pl/events/walne-zebranie-sprawozdawczo-wyborcze/
LOCATION:„Katolik” – Publiczna Szkoła Podstawowa SRKAK\, ul. 1-go Maja 1\, Siemianowice Śląskie\, 41-100
ATTACH;FMTTYPE=image/webp:https://www.tpss.siemianowice.org.pl/wp-content/uploads/2025/04/Wybory.webp
END:VEVENT
BEGIN:VEVENT
DTSTART;TZID=Europe/Warsaw:20250325T170000
DTEND;TZID=Europe/Warsaw:20250325T190000
DTSTAMP:20260420T152346
CREATED:20250418T091348Z
LAST-MODIFIED:20250418T091438Z
UID:252-1742922000-1742929200@www.tpss.siemianowice.org.pl
SUMMARY:Spotkanie Członków i Sympatyków
DESCRIPTION:
URL:https://www.tpss.siemianowice.org.pl/events/spotkanie-czlonkow-i-sympatykow/
LOCATION:„Katolik” – Publiczna Szkoła Podstawowa SRKAK\, ul. 1-go Maja 1\, Siemianowice Śląskie\, 41-100
ATTACH;FMTTYPE=image/webp:https://www.tpss.siemianowice.org.pl/wp-content/uploads/2025/04/Zebranie.webp
END:VEVENT
BEGIN:VEVENT
DTSTART;TZID=Europe/Warsaw:20250215T200000
DTEND;TZID=Europe/Warsaw:20250216T020000
DTSTAMP:20260420T152346
CREATED:20250418T091913Z
LAST-MODIFIED:20250418T092654Z
UID:256-1739649600-1739671200@www.tpss.siemianowice.org.pl
SUMMARY:XXXXI Bal Siemiona
DESCRIPTION:
URL:https://www.tpss.siemianowice.org.pl/events/xxxxi-bal-siemiona/
LOCATION:Hotel Diament Vacanza\, ul. Olimpijska 4\, Siemianowice Śląskie\, 41-100
ATTACH;FMTTYPE=image/jpeg:https://www.tpss.siemianowice.org.pl/wp-content/uploads/2025/02/Bal.jpg
END:VEVENT
BEGIN:VEVENT
DTSTART;VALUE=DATE:20250126
DTEND;VALUE=DATE:20250127
DTSTAMP:20260420T152346
CREATED:20250417T151148Z
LAST-MODIFIED:20250418T091046Z
UID:223-1737849600-1737935999@www.tpss.siemianowice.org.pl
SUMMARY:Witamy na naszej nowej stronie internetowej!
DESCRIPTION:Z początkiem 2025 r. ruszyła nasza nowa strona internetowa.
URL:https://www.tpss.siemianowice.org.pl/events/witamy-na-naszej-nowej-stronie-internetowej/
ATTACH;FMTTYPE=image/jpeg:https://www.tpss.siemianowice.org.pl/wp-content/uploads/2025/04/Komputer.jpg
END:VEVENT
BEGIN:VEVENT
DTSTART;TZID=Europe/Warsaw:20250110T170000
DTEND;TZID=Europe/Warsaw:20250110T190000
DTSTAMP:20260420T152346
CREATED:20250418T091617Z
LAST-MODIFIED:20250418T091617Z
UID:254-1736528400-1736535600@www.tpss.siemianowice.org.pl
SUMMARY:Spotkanie Noworoczne
DESCRIPTION:
URL:https://www.tpss.siemianowice.org.pl/events/spotkanie-noworoczne/
LOCATION:SCK – Willa Fitznera\, ul. Fitznerów 3\, Siemianowice Śląskie\, 41-100
ATTACH;FMTTYPE=image/png:https://www.tpss.siemianowice.org.pl/wp-content/uploads/2025/04/Koledowanie.png
END:VEVENT
END:VCALENDAR